BEGIN:VCALENDAR
VERSION:2.0
PRODID:-//85.13.139.29//NONSGML kigkonsult.se iCalcreator 2.20//
CALSCALE:GREGORIAN
METHOD:PUBLISH
X-WR-TIMEZONE:Europe/Berlin
BEGIN:VEVENT
UID:event136@Provinzdorf Nemt
DTSTAMP:20260419T195343Z
CATEGORIES:Ortschaftsrat
DESCRIPTION:Ortschaftsrat\nKategorie: Ortschaftsrat\nICS-Link: https://www.
 nemt.de/index.php?option=com_jem&view=event&id=136:ortschaftsrat\n
DTSTART;TZID=Europe/Berlin:20260604T193000
DTEND;TZID=Europe/Berlin:20260604T193000
LOCATION:Gemeindesaal Nemt\,Alte Poststraße 47\,04808
SUMMARY:Ortschaftsrat
URL:https://www.nemt.de/index.php?option=com_jem&view=event&id=136:ortschaf
 tsrat
END:VEVENT
END:VCALENDAR